BEGIN:VCALENDAR
VERSION:2.0
PRODID:-//Odoo//Event//EN
CALSCALE:GREGORIAN
METHOD:PUBLISH
BEGIN:VEVENT
UID:11776@ewomennetwork.com
DTSTAMP:20260422T024011Z
DTSTART:20260219T193000Z
DTEND:20260219T213000Z
SUMMARY:Break the Stuck, Mastering Momentum to Breakthrough to an Unprecedented Level  of Success. 
DESCRIPTION:Event Name: Break the Stuck\, Mastering Momentum to Breakthrough to an Unprecedented Level  of Success. 
LOCATION:Greens on Tenth
END:VEVENT
END:VCALENDAR
