BEGIN:VCALENDAR
VERSION:2.0
PRODID:-//Odoo//Event//EN
CALSCALE:GREGORIAN
METHOD:PUBLISH
BEGIN:VEVENT
UID:12147@ewomennetwork.com
DTSTAMP:20260419T140450Z
DTSTART:20260521T170000Z
DTEND:20260521T190000Z
SUMMARY:Strategic In-Person Business Introductions
DESCRIPTION:Event Name: Strategic In-Person Business Introductions
LOCATION:Vaughn Fahie ~ Audio Newborn Productions
END:VEVENT
END:VCALENDAR
