BEGIN:VCALENDAR
VERSION:2.0
PRODID:-//Odoo//Event//EN
CALSCALE:GREGORIAN
METHOD:PUBLISH
BEGIN:VEVENT
UID:12363@ewomennetwork.com
DTSTAMP:20260425T174749Z
DTSTART:20260312T230000Z
DTEND:20260313T010000Z
SUMMARY:Strategic In-Person Business Introductions
DESCRIPTION:Event Name: Strategic In-Person Business Introductions
LOCATION:The Alexander
END:VEVENT
END:VCALENDAR
