BEGIN:VCALENDAR
VERSION:2.0
PRODID:-//Odoo//Event//EN
CALSCALE:GREGORIAN
METHOD:PUBLISH
BEGIN:VEVENT
UID:12612@ewomennetwork.com
DTSTAMP:20260424T201937Z
DTSTART:20261209T183000Z
DTEND:20261209T203000Z
SUMMARY:Accelerated In-Person Networking
DESCRIPTION:Event Name: Accelerated In-Person Networking
LOCATION:Lodge on the Desert
END:VEVENT
END:VCALENDAR
